BEGIN:VCALENDAR
VERSION:2.0
PRODID:-//Slowlife - ECPv6.15.17//NONSGML v1.0//EN
CALSCALE:GREGORIAN
METHOD:PUBLISH
X-WR-CALNAME:Slowlife
X-ORIGINAL-URL:http://slowlife.pl
X-WR-CALDESC:Wydarzenia dla Slowlife
REFRESH-INTERVAL;VALUE=DURATION:PT1H
X-Robots-Tag:noindex
X-PUBLISHED-TTL:PT1H
BEGIN:VTIMEZONE
TZID:UTC
BEGIN:STANDARD
TZOFFSETFROM:+0000
TZOFFSETTO:+0000
TZNAME:UTC
DTSTART:20150101T000000
END:STANDARD
END:VTIMEZONE
BEGIN:VEVENT
DTSTART;TZID=UTC:20160930T180000
DTEND;TZID=UTC:20161001T220000
DTSTAMP:20260420T001441
CREATED:20160905T195807Z
LAST-MODIFIED:20160905T200156Z
UID:193-1475258400-1475359200@slowlife.pl
SUMMARY:POP UP Ferment
DESCRIPTION:POP UP Ferment – pierwszy w Polsce pop up restauracyjny. \nGotuje  Damian Surowiec (30/09-1/10). Zafascynowany Hiszpanią\, a zwłaszcza Krajem Basków\, w którym zdobywał doświadczenie w dwóch 1*Michelin restauracjach. Pracował również w kultowej Barrafinie.
URL:http://slowlife.pl/event/pop-up-ferment-2/
LOCATION:Rozbrat20\, Warszawa
CATEGORIES:Inne
ATTACH;FMTTYPE=image/jpeg:http://slowlife.pl/wp-content/uploads/2016/09/14124866_328325520838858_8571848015764134875_o.jpg
END:VEVENT
END:VCALENDAR