BEGIN:VCALENDAR
VERSION:2.0
PRODID:-//Slowlife - ECPv6.15.17//NONSGML v1.0//EN
CALSCALE:GREGORIAN
METHOD:PUBLISH
X-WR-CALNAME:Slowlife
X-ORIGINAL-URL:http://slowlife.pl
X-WR-CALDESC:Wydarzenia dla Slowlife
REFRESH-INTERVAL;VALUE=DURATION:PT1H
X-Robots-Tag:noindex
X-PUBLISHED-TTL:PT1H
BEGIN:VTIMEZONE
TZID:UTC
BEGIN:STANDARD
TZOFFSETFROM:+0000
TZOFFSETTO:+0000
TZNAME:UTC
DTSTART:20150101T000000
END:STANDARD
END:VTIMEZONE
BEGIN:VEVENT
DTSTART;VALUE=DATE:20161013
DTEND;VALUE=DATE:20161017
DTSTAMP:20260420T001442
CREATED:20160925T141524Z
LAST-MODIFIED:20160925T141524Z
UID:273-1476316800-1476662399@slowlife.pl
SUMMARY:Warszawski Festiwal Piwa
DESCRIPTION:Zapraszamy na największy festiwal piw rzemieślniczych w Polsce. Spotkacie na nim forpocztę polskiej i europejskiej rewolucji piwnej. Nowa fala piwowarstwa jest młoda\, niepokorna\, zbuntowana. Atmosfera na festiwalu jest równie zaskakująca\, jak niezwykły jest smak piw\, które możecie na nim spróbować. \nPrezentujemy wszystkie najważniejsze nowofalowe inicjatywy piwowarskie. Przedstawiamy artystów-rzemieślników\, którzy nad głowami wznoszą flagę piwnej rewolucji. Poznajcie ludzi\, którzy chcą zmieniać świat. Bez żadnej ściemy pokażemy\, jak doskonałe piwo warzy się w Polsce i na świecie. Najlepsza twarz piwnej kultury i pierwszy taki festiwal w Polsce! \nżródło: http://warszawskifestiwalpiwa.pl/pl/
URL:http://slowlife.pl/event/warszawski-festiwal-piwa/
LOCATION:Miejski Stadion Legii Warszawa im. Marszałka J. Piłsudskiego\, Łazienkowska 3 \, Warszawa
CATEGORIES:Festiwale
ATTACH;FMTTYPE=image/jpeg:http://slowlife.pl/wp-content/uploads/2016/09/img_header.jpg
END:VEVENT
BEGIN:VEVENT
DTSTART;VALUE=DATE:20161015
DTEND;VALUE=DATE:20161017
DTSTAMP:20260420T001442
CREATED:20160914T104703Z
LAST-MODIFIED:20160914T104703Z
UID:241-1476489600-1476662399@slowlife.pl
SUMMARY:Łódź Street Food Festival vol. XII
DESCRIPTION:Jesienna edycja najsmaczniejszego festiwalu jedzeniowego już niebawem! Po raz kolejny w ramach ŁSFF nie zabraknie najlepszych Food truckowców oraz restauratorów z całej Polski!
URL:http://slowlife.pl/event/lodz-street-food-festival-vol-xii/
CATEGORIES:Festiwale
ATTACH;FMTTYPE=image/jpeg:http://slowlife.pl/wp-content/uploads/2016/09/13935151_674162309400617_3426548745581076973_n.jpg
END:VEVENT
END:VCALENDAR