BEGIN:VCALENDAR
VERSION:2.0
PRODID:-//Slowlife - ECPv6.15.17//NONSGML v1.0//EN
CALSCALE:GREGORIAN
METHOD:PUBLISH
X-ORIGINAL-URL:http://slowlife.pl
X-WR-CALDESC:Wydarzenia dla Slowlife
REFRESH-INTERVAL;VALUE=DURATION:PT1H
X-Robots-Tag:noindex
X-PUBLISHED-TTL:PT1H
BEGIN:VTIMEZONE
TZID:UTC
BEGIN:STANDARD
TZOFFSETFROM:+0000
TZOFFSETTO:+0000
TZNAME:UTC
DTSTART:20150101T000000
END:STANDARD
END:VTIMEZONE
BEGIN:VEVENT
DTSTART;VALUE=DATE:20161104
DTEND;VALUE=DATE:20161121
DTSTAMP:20260419T214939
CREATED:20161106T205540Z
LAST-MODIFIED:20161111T213045Z
UID:347-1478217600-1479686399@slowlife.pl
SUMMARY:Śniadanko Festiwal
DESCRIPTION:Weź udział w pierwszej edycji Śniadanko Festiwal! Wybierasz śniadanie z ponad 200 miejsc\, płacisz tylko 9 zł przez stronę lub w aplikacji i odbierasz do 20 listopada w lokalu. \nMiasta\, które przyłączyły się do Festiwalu: \nGDAŃSK SOPOT GDYNIA WARSZAWA KRAKÓWPOZNAŃ WROCŁAW ŁÓDŹ TORUŃ BYDGOSZCZLUBLIN ŚLĄSK \n\n\nDo każdego śniadania otrzymasz kawę\, herbatę lub inny napój za free. \n\n\n\n\nZawsze tylko 9 zł\nWszystkie śniadanka są w tej samej\, niskiej cenie. Wszędzie\, srsly.
URL:http://slowlife.pl/event/347/
LOCATION:Cała Polska
CATEGORIES:Festiwale
ATTACH;FMTTYPE=image/png:http://slowlife.pl/wp-content/uploads/2016/11/śniadanko.png
END:VEVENT
BEGIN:VEVENT
DTSTART;VALUE=DATE:20161116
DTEND;VALUE=DATE:20161219
DTSTAMP:20260419T214939
CREATED:20161031T223133Z
LAST-MODIFIED:20161031T223434Z
UID:330-1479254400-1482105599@slowlife.pl
SUMMARY:Międzynarodowe Targi Wina ENOEXPO
DESCRIPTION:Międzynarodowe Targi Wina ENOEXPO® w Krakowie to specjalistyczna impreza poświęcona winu. Co roku w Krakowie spotykają się producenci z różnych krajów z importerami\, a importerzy z dystrybutorami wina i sektorem HoReCa.
URL:http://slowlife.pl/event/miedzynarodowe-targi-wina-enoexpo/
LOCATION:EXPO Kraków\, Kraków
CATEGORIES:Inne,Targi
ATTACH;FMTTYPE=image/png:http://slowlife.pl/wp-content/uploads/2016/10/Bez-tytułu.png
END:VEVENT
BEGIN:VEVENT
DTSTART;VALUE=DATE:20161119
DTEND;VALUE=DATE:20161121
DTSTAMP:20260419T214939
CREATED:20161031T215228Z
LAST-MODIFIED:20161031T215433Z
UID:308-1479513600-1479686399@slowlife.pl
SUMMARY:Warsztaty Serowarskie i Chlebowe na Dolnym Śląsku
DESCRIPTION:Dwudniowy\, intensywny kurs warzenia serów.\nW tym czasie poznasz sekrety wytwarzania podstawowych serów a pozyskana wiedza pozwoli Ci już samodzielnie wytwarzać znane sery a nawet tworzyć własne serowe kompozycje.\nPierwszy dzień warsztatów rozpoczniemy od wspólnego zrobienia Sera Korycińskiego. Potem już samodzielnie\, przy dwuosobowych stanowiskach będziesz warzył własne sery. Pierwszy będzie tzw. Ser Żuławski zwany też Hand Kase. Od Ciebie będzie zależało czy zrobisz go jako ser dojrzewający czy do szybkiej konsumpcji. Pierwszy dzień warsztatów ukoronujemy zrobieniem Goudy. W przerwach technologicznych przygotujemy zaczyn na chleb na zakwasie i zbierzemy śmietanę z której następnego dnia zrobimy masło.\nDrugiego dnia zrobimy prawdziwe Cameberty i sery typu Oscypek. Upieczemy też nasze chleby na zakwasie i zrobimy masło.\nZrobione sery będzie można zabrać ze sobą do domu do zjedzenia w gronie przyjaciół lub dalszego dojrzewania.
URL:http://slowlife.pl/event/warsztaty-serowarskie-i-chlebowe-na-dolnym-slasku/
LOCATION:Dom nad Wodospadem\, Międzygórze
CATEGORIES:Warsztaty
ATTACH;FMTTYPE=image/jpeg:http://slowlife.pl/wp-content/uploads/2016/10/13719662_1066826156742544_8207452757094131389_o.jpg
END:VEVENT
END:VCALENDAR