BEGIN:VCALENDAR
VERSION:2.0
PRODID:-//Slowlife - ECPv6.15.17//NONSGML v1.0//EN
CALSCALE:GREGORIAN
METHOD:PUBLISH
X-ORIGINAL-URL:http://slowlife.pl
X-WR-CALDESC:Wydarzenia dla Slowlife
REFRESH-INTERVAL;VALUE=DURATION:PT1H
X-Robots-Tag:noindex
X-PUBLISHED-TTL:PT1H
BEGIN:VTIMEZONE
TZID:UTC
BEGIN:STANDARD
TZOFFSETFROM:+0000
TZOFFSETTO:+0000
TZNAME:UTC
DTSTART:20150101T000000
END:STANDARD
END:VTIMEZONE
BEGIN:VEVENT
DTSTART;VALUE=DATE:20161116
DTEND;VALUE=DATE:20161219
DTSTAMP:20260419T203545
CREATED:20161031T223133Z
LAST-MODIFIED:20161031T223434Z
UID:330-1479254400-1482105599@slowlife.pl
SUMMARY:Międzynarodowe Targi Wina ENOEXPO
DESCRIPTION:Międzynarodowe Targi Wina ENOEXPO® w Krakowie to specjalistyczna impreza poświęcona winu. Co roku w Krakowie spotykają się producenci z różnych krajów z importerami\, a importerzy z dystrybutorami wina i sektorem HoReCa.
URL:http://slowlife.pl/event/miedzynarodowe-targi-wina-enoexpo/
LOCATION:EXPO Kraków\, Kraków
CATEGORIES:Inne,Targi
ATTACH;FMTTYPE=image/png:http://slowlife.pl/wp-content/uploads/2016/10/Bez-tytułu.png
END:VEVENT
END:VCALENDAR