BEGIN:VCALENDAR
VERSION:2.0
PRODID:-//Slowlife - ECPv6.15.17//NONSGML v1.0//EN
CALSCALE:GREGORIAN
METHOD:PUBLISH
X-WR-CALNAME:Slowlife
X-ORIGINAL-URL:http://slowlife.pl
X-WR-CALDESC:Wydarzenia dla Slowlife
REFRESH-INTERVAL;VALUE=DURATION:PT1H
X-Robots-Tag:noindex
X-PUBLISHED-TTL:PT1H
BEGIN:VTIMEZONE
TZID:UTC
BEGIN:STANDARD
TZOFFSETFROM:+0000
TZOFFSETTO:+0000
TZNAME:UTC
DTSTART:20160101T000000
END:STANDARD
END:VTIMEZONE
BEGIN:VEVENT
DTSTART;VALUE=DATE:20170109
DTEND;VALUE=DATE:20170114
DTSTAMP:20260419T203408
CREATED:20170107T231747Z
LAST-MODIFIED:20170107T231747Z
UID:403-1483920000-1484351999@slowlife.pl
SUMMARY:Festiwal Smaku w Gliwicach
DESCRIPTION:Festiwal Smaku to doskonala okazja do tego aby poznać najciekawsze miejsca na kulinarnej mapie Waszego miasta. Podczas pięciu dni festiwalu masz możliwość i czas aby odkryć nowe miejsca na kulinarnej mapie Gliwic! \nCeny potraw są niezmienne dla wszystkich lokali biorących udział w wydarzeniu. Restauracje: 5zł przystawka; 12zł danie główne; 15zł cały zestaw. Kawiarnie: 5zł napój\, 7zł deser\, 10zł zestaw.
URL:http://slowlife.pl/event/festiwal-smaku-w-gliwicach/
LOCATION:Gliwice
CATEGORIES:Festiwale
ATTACH;FMTTYPE=image/jpeg:http://slowlife.pl/wp-content/uploads/2017/01/15590139_612838172240014_6716948875643385765_n.jpg
END:VEVENT
END:VCALENDAR