BEGIN:VCALENDAR
VERSION:2.0
PRODID:-//Slowlife - ECPv6.15.17//NONSGML v1.0//EN
CALSCALE:GREGORIAN
METHOD:PUBLISH
X-ORIGINAL-URL:http://slowlife.pl
X-WR-CALDESC:Wydarzenia dla Slowlife
REFRESH-INTERVAL;VALUE=DURATION:PT1H
X-Robots-Tag:noindex
X-PUBLISHED-TTL:PT1H
BEGIN:VTIMEZONE
TZID:UTC
BEGIN:STANDARD
TZOFFSETFROM:+0000
TZOFFSETTO:+0000
TZNAME:UTC
DTSTART:20160101T000000
END:STANDARD
END:VTIMEZONE
BEGIN:VEVENT
DTSTART;VALUE=DATE:20170109
DTEND;VALUE=DATE:20170114
DTSTAMP:20260419T192928
CREATED:20170107T231747Z
LAST-MODIFIED:20170107T231747Z
UID:403-1483920000-1484351999@slowlife.pl
SUMMARY:Festiwal Smaku w Gliwicach
DESCRIPTION:Festiwal Smaku to doskonala okazja do tego aby poznać najciekawsze miejsca na kulinarnej mapie Waszego miasta. Podczas pięciu dni festiwalu masz możliwość i czas aby odkryć nowe miejsca na kulinarnej mapie Gliwic! \nCeny potraw są niezmienne dla wszystkich lokali biorących udział w wydarzeniu. Restauracje: 5zł przystawka; 12zł danie główne; 15zł cały zestaw. Kawiarnie: 5zł napój\, 7zł deser\, 10zł zestaw.
URL:http://slowlife.pl/event/festiwal-smaku-w-gliwicach/
LOCATION:Gliwice
CATEGORIES:Festiwale
ATTACH;FMTTYPE=image/jpeg:http://slowlife.pl/wp-content/uploads/2017/01/15590139_612838172240014_6716948875643385765_n.jpg
END:VEVENT
BEGIN:VEVENT
DTSTART;VALUE=DATE:20170112
DTEND;VALUE=DATE:20170114
DTSTAMP:20260419T192928
CREATED:20170107T215013Z
LAST-MODIFIED:20170107T215638Z
UID:364-1484179200-1484351999@slowlife.pl
SUMMARY:Wino i historia - sesja naukowa
DESCRIPTION:Czwartek\, 12 stycznia 2017 r. \n10.00-10.10 Otwarcie sesji\n10.10-10.30 mgr Justyna Rosowska – Kultura picia wina wśród ludów barbarzyńskich okresu rzymskiego na ziemiach polskich\n10.30-10.50 mgr Mariya Avramova – Zastosowanie wina w medycynie starożytnej\n10.50-11.10 dr Paweł Hamera – Wino i jego medyczne aspekty w świetle dziewiętnastowiecznej prasy brytyjskiej\n11.10-11.25 Dyskusja\n11.25-11.40 Przerwa na kawę\n11.40-12.00 ks. bp dr hab. Michał Janocha – Wino w Biblii i tradycji Kościoła\n12.00-12.20 mgr Łukasz Krzyszczuk – Chrystus jako winiarz w egzegezie św. Hieronima\n12.20-12.40 dr Magdalena Jóźwiak – Pijaństwo czy „rozweselenie serca”? Głos Ojców Kościoła w sprawie picia wina\n12.40-12.55 Dyskusja\n12.55-14.00 Przerwa\n14.00-14.20 mgr Gabriel Kurczewski – Teofil Fukier i jego winiarnia\n14.20-14.40 dr Dorota Dias-Lewandowska – Wina na stole Aleksandry Ogińskiej\n14.40-15.00 prof. Jarosław Kita – „Maślacz\, madera\, xeres\, chablis…” – maluszyńska piwniczka z winami hrabiów Ostrowskich\n15.00-15.20 dr hab. Tomasz Łaszkiewicz – Wokół stołu na pomorskim dworze ziemiańskim w I połowie XX wieku\n15.20-15.35 Dyskusja\n15.35-15.50 Przerwa na kawę\n15.50-16.10 prof. Andrzej Klonder – Piwo\, wódka i inni konkurenci wina w Polsce nowożytnej\n16.10-16.30 mgr Ewelina Sikora – Swojskość wina węgierskiego w kulturze staropolskiej i jej węgierskie echa\n16.30-16.50 prof. Cezary Taracha – O sprzedaży i promocji hiszpańskiego wina w Polsce epoki nowożytnej\n16.50-17.05 Dyskusja \nPiątek\, 13 stycznia 2017 r. \n10.00-10.20 dr Filip Burno – „Święto winogrona” jako część faszystowskiej polityki spektaklu i strategii tworzenia „nowego Włocha”\n10.20-10.40 prof. Cezary Król – Weintor und Weinstrasse (r. 1936)\n10.40-11.00 prof. Wojciech Włodarczyk – Święto a państwo. „Obchody winobrania” w Zaleszczykach w latach 1935-1939\n11.00-11.15 Dyskusja\n11.15-11.30 Przerwa na kawę\n11.30-11.50 dr Arkadiusz Cincio – Od sekta do wina owocowego. Zielonogórskie winiarnie w latach 1945-1955\n11.50-12.10 lic. Joanna Klecha-Zygadło\, lic. Joanna Marciniszyn – Tradycje zielonogórskiego winiarstwa w edukacji dzieci\n12.10-12.30 mgr Dominika Zagrodzka – Czy to wina wina? – kilka słów o enoturystyce\n12.30-12.45 Dyskusja\n12.45 Zamknięcie konferencji
URL:http://slowlife.pl/event/wino-i-historia-sesja-naukowa/
LOCATION:Stowarzyszenie Historyków Sztuki – Klub Historii i Kultury Wina\, Rynek Starego Miasta 27\, Warszawa
CATEGORIES:Inne
ATTACH;FMTTYPE=image/jpeg:http://slowlife.pl/wp-content/uploads/2017/01/13558943_1804971523065964_3066390476131356953_o.jpg
END:VEVENT
BEGIN:VEVENT
DTSTART;TZID=UTC:20170112T183000
DTEND;TZID=UTC:20170112T200000
DTSTAMP:20260419T192928
CREATED:20170107T215555Z
LAST-MODIFIED:20170107T220830Z
UID:369-1484245800-1484251200@slowlife.pl
SUMMARY:Degustacja „Poznaj Świat Piwa”
DESCRIPTION:Czy do piwa dodaje się bydlęcej żółci? Czy niepasteryzowane znaczy lepsze? Czy piwo zawsze powinno być świeże? \nNa te i wiele innych pytań nurtujących osoby stawiające pierwsze kroki w świecie dobrego piwa odpowie sędzia piwny i beer manager Qufla – Artur Napiórkowski. Uczestnicy degustacji zostaną zabrani w podróż przez różnorodne style piwa\, która ma na celu zapoznać ich z bogactwem piwnego świata. Pojawią się tu zarówno piwa lekkie\, jak i deserowe\, gorzkie jak i słodkie. Po tym spotkaniu „jasne z pianką” nie będzie już nigdy smakować tak samo. 😉 \nDegustację poprzedzi krótki wstęp teoretyczny oraz praktyczne informacje jak oceniać piwo. Uczestnicy otrzymają próbki piw w 8 róznych stylach. \nWstęp kosztuje 39 zł od osoby. Można także wykupić udział w degustacji dla kogoś w prezencie. W e-mailowym potwierdzeniu znajdzie się specjalny kod\, który stanowi potwierdzenie dokonania zakupu. \nZakup biletu tylko drogą e-mailową: kontakt@multitapcrawl.pl
URL:http://slowlife.pl/event/degustacja-poznaj-swiat-piwa/
LOCATION:Qufel Beer Park\, ul. Górczewska 124\, Warszawa
CATEGORIES:Degustacje, POP UPy
ATTACH;FMTTYPE=image/jpeg:http://slowlife.pl/wp-content/uploads/2017/01/15418584_644232085783833_4427973196057921310_o.jpg
END:VEVENT
END:VCALENDAR