BEGIN:VCALENDAR
VERSION:2.0
PRODID:-//Slowlife - ECPv6.15.17//NONSGML v1.0//EN
CALSCALE:GREGORIAN
METHOD:PUBLISH
X-ORIGINAL-URL:http://slowlife.pl
X-WR-CALDESC:Wydarzenia dla Slowlife
REFRESH-INTERVAL;VALUE=DURATION:PT1H
X-Robots-Tag:noindex
X-PUBLISHED-TTL:PT1H
BEGIN:VTIMEZONE
TZID:UTC
BEGIN:STANDARD
TZOFFSETFROM:+0000
TZOFFSETTO:+0000
TZNAME:UTC
DTSTART:20160101T000000
END:STANDARD
END:VTIMEZONE
BEGIN:VEVENT
DTSTART;TZID=UTC:20170304T180000
DTEND;TZID=UTC:20170304T210000
DTSTAMP:20260419T165838
CREATED:20170219T212636Z
LAST-MODIFIED:20170219T212636Z
UID:445-1488650400-1488661200@slowlife.pl
SUMMARY:Smaki polskie. Podróż w czasie
DESCRIPTION:10 -daniowa kolacja degustacyjną wraz z polskim winem dobranym do każdego dania. \nSzef Kuchni Marek Kropielnicki razem z trzema wybitnymi kucharzami – Zbigniewem Kopyckim\, Arturem Nijakowskim oraz Samir Motwani\, użyją innowacyjne metody by wprowadzić wyraziste smaki polskich ziół i przypraw w podanych daniach.\nNasz sommelier Łukasz Bester\, poprowadzi degustację 10 polskich win z renomowanych winnic – starannie dobranych do każdej potrawy. Podczas kolacji będzie Wam towarzył zespół smyczkowy o niesamowitym\, nowoczesnym brzmieniu. \nW menu znajdą się m.in. rzadko spotykane polskie produkty\, tj. jagnięcina wrzosówka\, łosoś wiślany\, sarnina\, śliamki polskie oraz świnia złotnicka.\nCelem kolacji będzie w jak najciekawszy sposób użyć znane i nieznane polskie zioła i przyprawy oraz przyrządzanie dań w niekonwencjonalny sposób.\nBędzie to rzadko spotykana podróż smakowa po polskiej ziemi\, pełna wrażeń\, sensacji i pasji przekazanej od Szefów. Serdecznie zapraszamy na to wyjątkowe wydarzenie. \nCena 375 zł/osobę obejmuje:\n10 dań degustacyjnych\n10 win degustacyjnych \nRezerwowanie stolika lub inne pytania proszę dzwonić pod numer:\nReduta biuro: 22 826 35 09\nManager : Sławomir Sobotka: 609 885 208\nSzef Kuchni Marek Kropielnicki: 501 128 798\ne-mail: organizacja@reduta.pl
URL:http://slowlife.pl/event/smaki-polskie-podroz-w-czasie/
LOCATION:Reduta Banku Polskiego\, ul. Bielańska 10\, 00-085 Warszawa
CATEGORIES:Degustacje, POP UPy,Inne
ATTACH;FMTTYPE=image/jpeg:http://slowlife.pl/wp-content/uploads/2017/02/16804082_10155827146894196_4151818432349761050_o.jpg
END:VEVENT
END:VCALENDAR