BEGIN:VCALENDAR
VERSION:2.0
PRODID:-//Slowlife - ECPv6.15.17//NONSGML v1.0//EN
CALSCALE:GREGORIAN
METHOD:PUBLISH
X-ORIGINAL-URL:http://slowlife.pl
X-WR-CALDESC:Wydarzenia dla Slowlife
REFRESH-INTERVAL;VALUE=DURATION:PT1H
X-Robots-Tag:noindex
X-PUBLISHED-TTL:PT1H
BEGIN:VTIMEZONE
TZID:UTC
BEGIN:STANDARD
TZOFFSETFROM:+0000
TZOFFSETTO:+0000
TZNAME:UTC
DTSTART:20160101T000000
END:STANDARD
END:VTIMEZONE
BEGIN:VEVENT
DTSTART;TZID=UTC:20170315T190000
DTEND;TZID=UTC:20170315T220000
DTSTAMP:20260419T214502
CREATED:20170219T213326Z
LAST-MODIFIED:20170219T213326Z
UID:453-1489604400-1489615200@slowlife.pl
SUMMARY:Polish Table / bliskie spotkanie z kuchnią polską
DESCRIPTION:poznaj / posmakuj / pokochaj\nZapraszamy na bliskie spotkanie z kuchnią polską. Przyjdź do nas ze swoimi obcojęzycznymi znajomymi\, rodziną zza granicy\, partnerami biznesowymi odwiedzającymi Polskę. \nTu poznają tradycję i współczesność kuchni polskiej\, zobaczą mapę polskich smaków i posmakują istoty tego\, co stanowi polski smak. Zderzamy to\, co najstarsze z tym\, co najnowsze. \nPokazujemy produkty z różnych regionów\, opowiadamy o tradycjach i wpływach\, które ukształtowały polską kuchnię współczesną. Prezentujemy zarówno dawne przepisy\, jak i ich nowoczesne interpretacje w wykonaniu Juliana Karewicza \, dla którego ważne jest odniesienie do historii i korzystanie ze współczesnych technik kulinarnych. Położymy na jednym\, wielkim stole historię i współczesność\, produkt lokalny w dawnej i nowej odsłonie\, opowieści rodzinne i dawne receptury. \nPokażemy jak konserwujemy żywność\, ale też jak przechowujemy tradycje. Będziemy wąchać\, smakować\, oglądać i rozmawiać. \nZapraszamy na warsztat degustacyjny\, kolację komentowaną i opowieści wokół stołu.\nPokaż Polskę od smacznej strony. Zaproś swoich gości na spotkanie z produktem\, tradycją\, doświadczeniem i przeżyciem wokół wspólnego stołu. \nMenu\nKiszona kapusta z olejem lnianym i czarnuszką\nNalewka ze smorodiny / Zbigniew Sierszuła\nŻur z rydzami\nPojedyncza destylacja z pszenicy / Polmos Siedlce\nŚledzie w oleju rzepakowym z jabłkami i kwaśną śmietaną\nNalewka z rokitnika / Zbigniew Sierszuła\nKaczka confit z gąszczem ze śliwek na grzybowym pęczotto\nCanva ’13 / Dom Bliskowice\nFaworki z pokrzywowym cukrem pudrem\nOvovit\, / J.A. Baczewski
URL:http://slowlife.pl/event/polish-table-bliskie-spotkanie-z-kuchnia-polska/
LOCATION:Comfort Food Studio\, Koszykowa 63\, 00-667 Warszawa
CATEGORIES:Degustacje, POP UPy,Inne
ATTACH;FMTTYPE=image/jpeg:http://slowlife.pl/wp-content/uploads/2017/02/16300102_10154437328276312_8101398630443318831_o.jpg
END:VEVENT
END:VCALENDAR