BEGIN:VCALENDAR
VERSION:2.0
PRODID:-//Slowlife - ECPv6.15.17//NONSGML v1.0//EN
CALSCALE:GREGORIAN
METHOD:PUBLISH
X-WR-CALNAME:Slowlife
X-ORIGINAL-URL:http://slowlife.pl
X-WR-CALDESC:Wydarzenia dla Slowlife
REFRESH-INTERVAL;VALUE=DURATION:PT1H
X-Robots-Tag:noindex
X-PUBLISHED-TTL:PT1H
BEGIN:VTIMEZONE
TZID:UTC
BEGIN:STANDARD
TZOFFSETFROM:+0000
TZOFFSETTO:+0000
TZNAME:UTC
DTSTART:20160101T000000
END:STANDARD
END:VTIMEZONE
BEGIN:VEVENT
DTSTART;VALUE=DATE:20170316
DTEND;VALUE=DATE:20170319
DTSTAMP:20260420T013520
CREATED:20170107T223219Z
LAST-MODIFIED:20170107T231925Z
UID:380-1489622400-1489881599@slowlife.pl
SUMMARY:Food Show
DESCRIPTION:Największe święto żywności i kulinariów w nowatorskiej formule spotkania profesjonalistów i pasjonatów. 3 dni wystaw\, prezentacji produktów żywnościowych\, degustacji\, pokazów gotowania\, warsztatów kulinarnych\, debat i dyskusji branży spożywczej i gastronomicznej\, osobistych spotkań mistrzów kuchni\, biznesu spożywczego i branży HoReCa oraz miłośników gotowania i dobrego jedzenia.\nW czasie Food Show w katowickim MCK dojdzie do spotkania tych dwóch światów: biznesu spożywczo-gastronomicznego i tysięcy miłośników gotowania.\n\nStrefa targowa – 8 tys. m2 designerskiej powierzchni wystawowej\, na której znajdzie się wybór stoisk producentów\, dostawców\, restauratorów\, kucharzy i partnerów wydarzeniaLive cooking – pokazy kulinarne celebrytów z aktywnym udziałem odwiedzającychSpotkania z ekspertami:\n\nDobre śniadanie – co powinno zawierać\, jak przyrządzić je szybko i smacznie?\nDietetyk radzi – dieta dopasowana do Twojego sposobu życia\nSzef kuchni radzi – warsztaty kulinarne i cukiernicze\nKuchnia w centrum życia współczesnego Polaka – urządzenie\, wyposażenie\, inspiracje\n\nZlot najlepszych food trucków z regionu \nTarg śniadaniowy pod dachem \nPokazy kulinarne kuchni molekularnej i future cooking \nDegustacje i konkursy dla publiczności \nDegustacje i warsztaty winiarskie z dobierania wina do potraw \nGiełda wymiany najlepszych przepisów \nFestiwal filmów o tematyce kulinarnej \nWarsztaty dla dzieci \nWystawa i warsztaty fotografii kulinarnej \nPrzegląd najlepszych spotów reklamowych dla kulinarnych reklamożerców \nSpotkanie kulinarnej blogosfery \nTargi książki kucharskiej
URL:http://slowlife.pl/event/food-show/
LOCATION:MIĘDZYNARODOWE CENTRUM KONGRESOWE\, Plac Sławika i Antalla 1\, Katowice
CATEGORIES:Degustacje, POP UPy,Festiwale,Inne,Targi,Warsztaty
ATTACH;FMTTYPE=image/png:http://slowlife.pl/wp-content/uploads/2017/01/15267964_1004586496319839_4916790229978015962_n.png
END:VEVENT
BEGIN:VEVENT
DTSTART;TZID=UTC:20170318T110000
DTEND;TZID=UTC:20170319T200000
DTSTAMP:20260420T013520
CREATED:20170218T200236Z
LAST-MODIFIED:20170218T200236Z
UID:433-1489834800-1489953600@slowlife.pl
SUMMARY:Craft Fest. Festiwal Piw Rzemieślniczych
DESCRIPTION:Impreza odbędzie się w murach malowniczego Zamku Piastowskiego. Jest to pierwsze tego typu wydarzenie w okolicy. Craft Fest to wystawcy z całego kraju\, a wśród nich browary rzemieślnicze\, multitapy\, browary restauracyjne oraz gastronomia oparta na food truckach. To dwa dni degustacji\, konkursów i prezentacji szerokiej gamy piw warzonych z pasją i zaangażowaniem.
URL:http://slowlife.pl/event/craft-fest-festiwal-piw-rzemieslniczych/
LOCATION:Zamek Piastowski w Raciborzu /Przedsiębiorczy Zamek\, ul. Zamkowa 2\, 47-400 Racibórz\, Polska
CATEGORIES:Festiwale
ATTACH;FMTTYPE=image/jpeg:http://slowlife.pl/wp-content/uploads/2017/02/16665936_1681325982166333_5668743756220250593_o.jpg
END:VEVENT
END:VCALENDAR