BEGIN:VCALENDAR
VERSION:2.0
PRODID:-//Slowlife - ECPv6.15.17//NONSGML v1.0//EN
CALSCALE:GREGORIAN
METHOD:PUBLISH
X-ORIGINAL-URL:http://slowlife.pl
X-WR-CALDESC:Wydarzenia dla Slowlife
REFRESH-INTERVAL;VALUE=DURATION:PT1H
X-Robots-Tag:noindex
X-PUBLISHED-TTL:PT1H
BEGIN:VTIMEZONE
TZID:UTC
BEGIN:STANDARD
TZOFFSETFROM:+0000
TZOFFSETTO:+0000
TZNAME:UTC
DTSTART:20150101T000000
END:STANDARD
END:VTIMEZONE
BEGIN:VEVENT
DTSTART;VALUE=DATE:20161104
DTEND;VALUE=DATE:20161121
DTSTAMP:20260419T204221
CREATED:20161106T205540Z
LAST-MODIFIED:20161111T213045Z
UID:347-1478217600-1479686399@slowlife.pl
SUMMARY:Śniadanko Festiwal
DESCRIPTION:Weź udział w pierwszej edycji Śniadanko Festiwal! Wybierasz śniadanie z ponad 200 miejsc\, płacisz tylko 9 zł przez stronę lub w aplikacji i odbierasz do 20 listopada w lokalu. \nMiasta\, które przyłączyły się do Festiwalu: \nGDAŃSK SOPOT GDYNIA WARSZAWA KRAKÓWPOZNAŃ WROCŁAW ŁÓDŹ TORUŃ BYDGOSZCZLUBLIN ŚLĄSK \n\n\nDo każdego śniadania otrzymasz kawę\, herbatę lub inny napój za free. \n\n\n\n\nZawsze tylko 9 zł\nWszystkie śniadanka są w tej samej\, niskiej cenie. Wszędzie\, srsly.
URL:http://slowlife.pl/event/347/
LOCATION:Cała Polska
CATEGORIES:Festiwale
ATTACH;FMTTYPE=image/png:http://slowlife.pl/wp-content/uploads/2016/11/śniadanko.png
END:VEVENT
BEGIN:VEVENT
DTSTART;VALUE=DATE:20161105
DTEND;VALUE=DATE:20161107
DTSTAMP:20260419T204221
CREATED:20161031T223859Z
LAST-MODIFIED:20161031T223859Z
UID:335-1478304000-1478476799@slowlife.pl
SUMMARY:XI Grand Prix Magazynu Wino
DESCRIPTION:Weź udział w największym winiarskim festiwalu w Polsce. Doroczna degustacja Magazynu Wino to okazja do spróbowania win nagrodzonych medalami Grand Prix 2016\, jak również zapoznania się z producentami z Włoch\, Francji\, Hiszpanii\, Portugalii\, Niemiec\, Austrii\, Węgier\, Chile\, Mołdawii\, RPA i wielu innych krajów. Podczas tegorocznej edycji nie zabraknie też winiarzy z Polski. Nowością będzie strefa win „bio”. \nHonorowym gościem Gali Grand Prix Magazynu Wino jest w tym roku niemieckie stowarzyszenie Generation Riesling\, które zrzesza młodych i dynamicznych producentów. Spotkanie z nimi to wyjątkowa okazja\, by poznać różne oblicza rieslinga\, określanego przez niektórych królem białych win. \nSpotkaj się z winiarzami\, zdegustuj i wybierz swoje ulubione butelki – zapewniamy możliwość zakupu wina na miejscu! Spotkaj innych winomanów\, porozmawiaj z redaktorami Magazynu Wino. Świętuj razem z nami!
URL:http://slowlife.pl/event/xi-grand-prix-magazynu-wino/
LOCATION:InterContinental Warsaw\, Warszawa
CATEGORIES:Inne
ATTACH;FMTTYPE=image/jpeg:http://slowlife.pl/wp-content/uploads/2016/10/14711534_1492349567458216_4949532034639111776_o.jpg
END:VEVENT
BEGIN:VEVENT
DTSTART;VALUE=DATE:20161111
DTEND;VALUE=DATE:20161114
DTSTAMP:20260419T204221
CREATED:20160926T120339Z
LAST-MODIFIED:20160926T120443Z
UID:286-1478822400-1479081599@slowlife.pl
SUMMARY:Terra Madre Slow Food Festival
DESCRIPTION:Terra Madre Slow Food Festival Central Europe \nW grudniu Kraków stanie się kulinarną stolicą Europy Środkowej.\nBlisko 200 wystawców\, ponad 30 pokazów i laboratoriów smaku\, 15 kolacji tematycznych w krakowskich restauracjach z najlepszymi szefami kuchni\, degustacje piwne i winiarskie oraz Slow Wine Bar\, koncerty\, spektakl teatralny\, sensoryczny plac zabaw dla dzieci i edukacyjny\, wielki stół wigilijny. To wszystko\, by pokazać bioróżnorodność Terra Madre – Matki Ziemi\, Matki Ziemi Europy Środkowej!\n\nFestiwal rozpoczyna się wieczorem w piątek 11 grudnia kolacjami w wybranych krakowskich restauracjach\, zaś w sobotę i niedzielę (12–13 grudnia) kontynuowany jest w godzinach od 10.00 do 18.00 w ICE Kraków Congress Centre. Szczegółowy\, zróżnicowany program znajdziecie Państwo w zakładce “harmonogram”. Bilet wejściowy na targi w cenie 5 zł (dzieci do 12 lat za bezpłatnie) będzie można zakupić w czasie trwania festiwalu przy wejściu. Zapisy na laboratoria\, warsztaty\, kolacje\, koncert i spektakl teatralny możliwe są jedynie drogą internetową w zakładce „zapisz się”. Serdecznie zapraszamy!\n\n\nźródło: http://terramadre.pl/
URL:http://slowlife.pl/event/terra-madre-slow-food-festival/
LOCATION:ICE Kraków Congress Centre\, Kraków
CATEGORIES:Festiwale
ATTACH;FMTTYPE=image/png:http://slowlife.pl/wp-content/uploads/2016/09/logo2.png
END:VEVENT
BEGIN:VEVENT
DTSTART;VALUE=DATE:20161112
DTEND;VALUE=DATE:20161113
DTSTAMP:20260419T204221
CREATED:20161031T212955Z
LAST-MODIFIED:20161031T212955Z
UID:302-1478908800-1478995199@slowlife.pl
SUMMARY:XIII Ogólnopolski Konkurs Miodów Pitnych
DESCRIPTION:XIII Ogólnopolski Konkurs Miodów Pitnych będzie miał miejsce w dniu 12 listopada 2016 r. w Sztumie\, w Sztumskim Centrum Kultury. \nJak co roku przewidziane są 2 podstawowe kategorie – miody rynkowe\, w tym roku oceniane będą trójniaki i miody amatorskie w czterech podkategoriach: naturalne\, korzenne\, owocowe i kwiatowe.
URL:http://slowlife.pl/event/xiii-ogolnopolski-konkurs-miodow-pitnych/
LOCATION:Sztumskie Centrum Kultury\, Sztum
CATEGORIES:Inne
ATTACH;FMTTYPE=image/jpeg:http://slowlife.pl/wp-content/uploads/2016/10/XIII_konkurs_miodow-300x250.jpg
END:VEVENT
BEGIN:VEVENT
DTSTART;VALUE=DATE:20161116
DTEND;VALUE=DATE:20161219
DTSTAMP:20260419T204221
CREATED:20161031T223133Z
LAST-MODIFIED:20161031T223434Z
UID:330-1479254400-1482105599@slowlife.pl
SUMMARY:Międzynarodowe Targi Wina ENOEXPO
DESCRIPTION:Międzynarodowe Targi Wina ENOEXPO® w Krakowie to specjalistyczna impreza poświęcona winu. Co roku w Krakowie spotykają się producenci z różnych krajów z importerami\, a importerzy z dystrybutorami wina i sektorem HoReCa.
URL:http://slowlife.pl/event/miedzynarodowe-targi-wina-enoexpo/
LOCATION:EXPO Kraków\, Kraków
CATEGORIES:Inne,Targi
ATTACH;FMTTYPE=image/png:http://slowlife.pl/wp-content/uploads/2016/10/Bez-tytułu.png
END:VEVENT
BEGIN:VEVENT
DTSTART;VALUE=DATE:20161119
DTEND;VALUE=DATE:20161121
DTSTAMP:20260419T204221
CREATED:20161031T215228Z
LAST-MODIFIED:20161031T215433Z
UID:308-1479513600-1479686399@slowlife.pl
SUMMARY:Warsztaty Serowarskie i Chlebowe na Dolnym Śląsku
DESCRIPTION:Dwudniowy\, intensywny kurs warzenia serów.\nW tym czasie poznasz sekrety wytwarzania podstawowych serów a pozyskana wiedza pozwoli Ci już samodzielnie wytwarzać znane sery a nawet tworzyć własne serowe kompozycje.\nPierwszy dzień warsztatów rozpoczniemy od wspólnego zrobienia Sera Korycińskiego. Potem już samodzielnie\, przy dwuosobowych stanowiskach będziesz warzył własne sery. Pierwszy będzie tzw. Ser Żuławski zwany też Hand Kase. Od Ciebie będzie zależało czy zrobisz go jako ser dojrzewający czy do szybkiej konsumpcji. Pierwszy dzień warsztatów ukoronujemy zrobieniem Goudy. W przerwach technologicznych przygotujemy zaczyn na chleb na zakwasie i zbierzemy śmietanę z której następnego dnia zrobimy masło.\nDrugiego dnia zrobimy prawdziwe Cameberty i sery typu Oscypek. Upieczemy też nasze chleby na zakwasie i zrobimy masło.\nZrobione sery będzie można zabrać ze sobą do domu do zjedzenia w gronie przyjaciół lub dalszego dojrzewania.
URL:http://slowlife.pl/event/warsztaty-serowarskie-i-chlebowe-na-dolnym-slasku/
LOCATION:Dom nad Wodospadem\, Międzygórze
CATEGORIES:Warsztaty
ATTACH;FMTTYPE=image/jpeg:http://slowlife.pl/wp-content/uploads/2016/10/13719662_1066826156742544_8207452757094131389_o.jpg
END:VEVENT
BEGIN:VEVENT
DTSTART;TZID=UTC:20161125T170000
DTEND;TZID=UTC:20161127T170000
DTSTAMP:20260419T204221
CREATED:20161031T222334Z
LAST-MODIFIED:20161031T222334Z
UID:325-1480093200-1480266000@slowlife.pl
SUMMARY:Lubelskie Targi Piw Rzemieślniczych 2016
DESCRIPTION:Spodziewajcie się morza dobrego piwa i doskonałej zabawy. \nPamiętajcie\, że aby wejść na targi\, należy: \n– lubić dobre piwo\n– przynieść ze sobą dużo uśmiechu\n– bawić się doskonale
URL:http://slowlife.pl/event/lubelskie-targi-piw-rzemieslniczych-2016/
LOCATION:Targi Lublin S.A.\, Lublin
CATEGORIES:Targi
ATTACH;FMTTYPE=image/jpeg:http://slowlife.pl/wp-content/uploads/2016/10/14682191_1035405506572360_1774195261103569146_o.jpg
END:VEVENT
BEGIN:VEVENT
DTSTART;TZID=UTC:20161127T160000
DTEND;TZID=UTC:20161127T210000
DTSTAMP:20260419T204221
CREATED:20161106T230638Z
LAST-MODIFIED:20170107T220855Z
UID:351-1480262400-1480280400@slowlife.pl
SUMMARY:Spotkania wokół stołu | Kuchnia Balbiny Przepiórko
DESCRIPTION:Serdecznie zapraszamy na kolejne spotkanie z cyklu „Spotkania wokół stołu” – Kuchnia Balbiny Przepiórko. \nSpotkaniu towarzyszą warsztaty kulinarne\, na które bilety można zakupić tu: http://bilety.polin.pl/nienumerowane.html?id=44578 \nGościem Spotkania będzie Piotr Bikont. Opowie o swojej przygodzie z kuchnią żydowską\, czułości do czulentu\, domowych eksperymentach z dawnymi przepisami i wielkiej subiektywnej podróży po kuchni polskich Żydów\, która zaowocowała książką „Kuchnia żydowska Balbiny Przepiórko”. \nCo to znaczy gotować po żydowsku? „Po żydowsku znaczy smakowicie” – mówi Piotr Bikont\, dziennikarz\, smakosz\, publicysta i krytyk kulinarny\, reżyser teatralny (zrealizował m.in. „Burzliwe życie Lejzorka Rojtszwańca według powieści Ilji Erenburga w Stowarzyszeniu Teatralnym Badów) i twórca filmów dokumentalnych\, a także autor książek m.in. „Listy pieczętowane sosem”\, „Dialogi języka z podniebieniem” (wraz z Robertem Makłowiczem)\, „Polska. Nawigator kulinarny” oraz „Kuchnia żydowska Balbiny Przepiórko”\, która jest pretekstem do spotkania.
URL:http://slowlife.pl/event/spotkania-wokol-stolu-kuchnia-balbiny-przepiorko/
LOCATION:Menora InfoPunkt\, Plac Grzybowski 2\, Warszawa
CATEGORIES:Degustacje, POP UPy,Inne,Warsztaty
ATTACH;FMTTYPE=image/jpeg:http://slowlife.pl/wp-content/uploads/2016/11/14918930_723323507843834_8422389676428237172_o.jpg
END:VEVENT
END:VCALENDAR