BEGIN:VCALENDAR
VERSION:2.0
PRODID:-//Slowlife - ECPv6.15.17//NONSGML v1.0//EN
CALSCALE:GREGORIAN
METHOD:PUBLISH
X-ORIGINAL-URL:http://slowlife.pl
X-WR-CALDESC:Wydarzenia dla Slowlife
REFRESH-INTERVAL;VALUE=DURATION:PT1H
X-Robots-Tag:noindex
X-PUBLISHED-TTL:PT1H
BEGIN:VTIMEZONE
TZID:UTC
BEGIN:STANDARD
TZOFFSETFROM:+0000
TZOFFSETTO:+0000
TZNAME:UTC
DTSTART:20160101T000000
END:STANDARD
END:VTIMEZONE
BEGIN:VEVENT
DTSTART;TZID=UTC:20170205T170000
DTEND;TZID=UTC:20170205T200000
DTSTAMP:20260419T165924
CREATED:20170109T105319Z
LAST-MODIFIED:20170109T105319Z
UID:421-1486314000-1486324800@slowlife.pl
SUMMARY:Kolacja charytatywna z Michałem Bałazy
DESCRIPTION:Niecodzienna kolacja w Restauracji Orzech i Miód! \n5 lutego 2017 odbędzie się kolacja charytatywna na rzecz zbiórki funduszy na sprzęt i rehabilitację Patrycji Chromik.\nGościem i prowadzącym całą imprezę będzie pan Michał Bałazy – szef kuchni\, freelancer\, Ambasador Kulinarny Polski. \nSerdecznie zapraszamy!
URL:http://slowlife.pl/event/kolacja-charytatywna-z-michalem-balazy/
LOCATION:Restauracja Orzech i Miód\, Hotel SPA Laskowo\, Raciborska 62 Jankowice\, Katowice
CATEGORIES:Degustacje, POP UPy
ATTACH;FMTTYPE=image/jpeg:http://slowlife.pl/wp-content/uploads/2017/01/15873122_1854976394739854_425454862009558039_n.jpg
END:VEVENT
BEGIN:VEVENT
DTSTART;TZID=UTC:20170226T110000
DTEND;TZID=UTC:20170226T180000
DTSTAMP:20260419T165924
CREATED:20170108T201944Z
LAST-MODIFIED:20170108T201944Z
UID:416-1488106800-1488132000@slowlife.pl
SUMMARY:Najedzeni Fest!
DESCRIPTION:Pierwsza edycja festiwalu kulinarnego Najedzeni Fest! w 2017 roku odbędzie się 26 lutego\, czyli w ostatki. Dawniej\, najweselej i najhuczniej obchodzono ostatni tydzień karnawału\, od tłustego czwartku\, po ostatni kusy wtorek. Czas ten upływał głównie na jedzeniu i piciu. Należało się wtedy wytańczyć\, wybawić i najeść do syta dobrych rzeczy przed okresem długiej wstrzemięźliwości. We wszystkich domach gotowano mnóstwo obficie kraszonego tłuszczem jedzenia\, kaszy i kapusty ze skwarkami\, stawiano na stołach słoninę\, mięso i różne kiełbasy. Nie brakowało smażonych na tłuszczu słodkich racuchów\, blinów\, pampuchów\, pączków i chrustów. \nNie inaczej będzie 26 lutego\, nasi Wspaniale Gotujący przygotują karnawałowe słodkości\, tłuściutkie na wszelkie możliwe sposoby dania kuchni z całego świata\, a winiarze wystrzelą nie jeden korek od szampana. Przyjdźcie do nas ukoić tupot białych mew po szaleństwach sobotniej\, ostatkowej nocy!
URL:http://slowlife.pl/event/najedzeni-fest/
LOCATION:FORUM Przestrzenie\, Marii Konopnickiej 28\, Kraków
CATEGORIES:Festiwale
ATTACH;FMTTYPE=image/jpeg:http://slowlife.pl/wp-content/uploads/2017/01/15591088_701020803407988_3563141612364643871_o.jpg
END:VEVENT
END:VCALENDAR